BEGIN:VCALENDAR
VERSION:2.0
PRODID:-//Alysea - ECPv5.6.0//NONSGML v1.0//EN
CALSCALE:GREGORIAN
METHOD:PUBLISH
X-WR-CALNAME:Alysea
X-ORIGINAL-URL:http://www.alysea.lu
X-WR-CALDESC:Events for Alysea
BEGIN:VTIMEZONE
TZID:Europe/Paris
BEGIN:DAYLIGHT
TZOFFSETFROM:+0100
TZOFFSETTO:+0200
TZNAME:CEST
DTSTART:20180325T010000
END:DAYLIGHT
BEGIN:STANDARD
TZOFFSETFROM:+0200
TZOFFSETTO:+0100
TZNAME:CET
DTSTART:20181028T010000
END:STANDARD
END:VTIMEZONE
BEGIN:VEVENT
DTSTART;TZID=Europe/Paris:20180726T100000
DTEND;TZID=Europe/Paris:20180726T180000
DTSTAMP:20211011T140215
CREATED:20180628T113404Z
LAST-MODIFIED:20180628T113431Z
UID:17947-1532599200-1532628000@www.alysea.lu
SUMMARY:BALLADE SUR LA MOSELLE
DESCRIPTION:Ballade sur la Moselle pour la résidence les Jardins d’Alysea\, le 26/07/2018 à Crauthem\nLe jeudi 26 juillet 2018\, à bord du M.S. “Princesse Marie-Astrid”\, les résidents découvriront la vallée de la Moselle sous un angle nouveau. Ce majestueux bateau construit en 2010 révèle un intérieur luxueux et élégant. Ainsi\, nos seniors tout en savourant un excellent menu gastronomique pourront profiter des vignes\, villages\, collines et forêts qui les accompagneront au gré des flots.
URL:http://www.alysea.lu/event/ballade-sur-la-moselle-260718/
LOCATION:Les Jardins d’Alysea\, 48\, rue de Hellange\, Crauthem\, 3327\, Luxembourg
CATEGORIES:Home
ATTACH;FMTTYPE=image/jpeg:http://www.alysea.lu/wp-content/uploads/2018/06/koblenz-3453860_960_720.jpg
END:VEVENT
END:VCALENDAR