BEGIN:VCALENDAR
VERSION:2.0
PRODID:-//Alysea - ECPv5.6.0//NONSGML v1.0//EN
CALSCALE:GREGORIAN
METHOD:PUBLISH
X-WR-CALNAME:Alysea
X-ORIGINAL-URL:http://www.alysea.lu
X-WR-CALDESC:Events for Alysea
BEGIN:VTIMEZONE
TZID:Europe/Paris
BEGIN:DAYLIGHT
TZOFFSETFROM:+0100
TZOFFSETTO:+0200
TZNAME:CEST
DTSTART:20180325T010000
END:DAYLIGHT
BEGIN:STANDARD
TZOFFSETFROM:+0200
TZOFFSETTO:+0100
TZNAME:CET
DTSTART:20181028T010000
END:STANDARD
END:VTIMEZONE
BEGIN:VEVENT
DTSTART;TZID=Europe/Paris:20180602T120000
DTEND;TZID=Europe/Paris:20180602T170000
DTSTAMP:20211011T141635
CREATED:20180525T100025Z
LAST-MODIFIED:20180530T143545Z
UID:1130-1527940800-1527958800@www.alysea.lu
SUMMARY:FETE DE L'ETE
DESCRIPTION:Fête de l’été au sein de la résidence les Jardins d’Alyséa\, le 02/06/2018 à Crauthem\nLe samedi 2 juin 2018\, afin de fêter l’arrivée de l’été\, la résidence organisera pour le plus grand plaisir des résidents une journée festive sur le thème du flamenco. En présence des résidents et leurs familles\, ils pourront profiter de cette belle journée pour danser et partager des moments uniques.
URL:http://www.alysea.lu/event/fete-de-lete/
LOCATION:Les Jardins d’Alysea\, 48\, rue de Hellange\, Crauthem\, 3327\, Luxembourg
CATEGORIES:Home
ATTACH;FMTTYPE=image/jpeg:http://www.alysea.lu/wp-content/uploads/2018/05/Flamenco.jpg
END:VEVENT
END:VCALENDAR