BEGIN:VCALENDAR
VERSION:2.0
PRODID:-//Alysea - ECPv6.15.20//NONSGML v1.0//EN
CALSCALE:GREGORIAN
METHOD:PUBLISH
X-WR-CALNAME:Alysea
X-ORIGINAL-URL:https://www.alysea.lu
X-WR-CALDESC:Évènements pour Alysea
REFRESH-INTERVAL;VALUE=DURATION:PT1H
X-Robots-Tag:noindex
X-PUBLISHED-TTL:PT1H
BEGIN:VTIMEZONE
TZID:Europe/Paris
BEGIN:DAYLIGHT
TZOFFSETFROM:+0100
TZOFFSETTO:+0200
TZNAME:CEST
DTSTART:20180325T010000
END:DAYLIGHT
BEGIN:STANDARD
TZOFFSETFROM:+0200
TZOFFSETTO:+0100
TZNAME:CET
DTSTART:20181028T010000
END:STANDARD
BEGIN:DAYLIGHT
TZOFFSETFROM:+0100
TZOFFSETTO:+0200
TZNAME:CEST
DTSTART:20190331T010000
END:DAYLIGHT
BEGIN:STANDARD
TZOFFSETFROM:+0200
TZOFFSETTO:+0100
TZNAME:CET
DTSTART:20191027T010000
END:STANDARD
BEGIN:DAYLIGHT
TZOFFSETFROM:+0100
TZOFFSETTO:+0200
TZNAME:CEST
DTSTART:20200329T010000
END:DAYLIGHT
BEGIN:STANDARD
TZOFFSETFROM:+0200
TZOFFSETTO:+0100
TZNAME:CET
DTSTART:20201025T010000
END:STANDARD
END:VTIMEZONE
BEGIN:VEVENT
DTSTART;TZID=Europe/Paris:20190314T140000
DTEND;TZID=Europe/Paris:20190314T163000
DTSTAMP:20260424T194402
CREATED:20190313T143132Z
LAST-MODIFIED:20190318T144943Z
UID:18056-1552572000-1552581000@www.alysea.lu
SUMMARY:Rencontre Intergénérationnelle aux Jardins d'Alysea
DESCRIPTION:Les enfants du foyer Bettembourg rendent visite aux résidents\nLes résidents des Jardins d’Alysea auront le plaisir de recevoir les enfants du foyer Bettembourg pour partager un moment de convivialité autour de jeux de société\, d’activités manuelles ou de préparations culinaires. L’équipe éducative coordonnera cette rencontra intergénérationnelle qui se déroulera au sein du bâtiment principal de la Résidence des Jardins d’Alysea\, le 14 mars de 14h à 16h30.
URL:https://www.alysea.lu/event/rencontre-intergenerationnelle-aux-jardins-dalysea/
LOCATION:Les Jardins d’Alysea\, 48\, rue de Hellange\, Crauthem\, 3327\, Luxembourg
CATEGORIES:Home
ATTACH;FMTTYPE=image/png:https://www.alysea.lu/wp-content/uploads/2019/03/rencontre-intergenerationnelle-maison-de-retraite-luxembourg.png
END:VEVENT
END:VCALENDAR