BEGIN:VCALENDAR
VERSION:2.0
PRODID:-//Alysea - ECPv6.15.20//NONSGML v1.0//EN
CALSCALE:GREGORIAN
METHOD:PUBLISH
X-ORIGINAL-URL:https://www.alysea.lu
X-WR-CALDESC:Évènements pour Alysea
REFRESH-INTERVAL;VALUE=DURATION:PT1H
X-Robots-Tag:noindex
X-PUBLISHED-TTL:PT1H
BEGIN:VTIMEZONE
TZID:Europe/Paris
BEGIN:DAYLIGHT
TZOFFSETFROM:+0100
TZOFFSETTO:+0200
TZNAME:CEST
DTSTART:20180325T010000
END:DAYLIGHT
BEGIN:STANDARD
TZOFFSETFROM:+0200
TZOFFSETTO:+0100
TZNAME:CET
DTSTART:20181028T010000
END:STANDARD
BEGIN:DAYLIGHT
TZOFFSETFROM:+0100
TZOFFSETTO:+0200
TZNAME:CEST
DTSTART:20190331T010000
END:DAYLIGHT
BEGIN:STANDARD
TZOFFSETFROM:+0200
TZOFFSETTO:+0100
TZNAME:CET
DTSTART:20191027T010000
END:STANDARD
BEGIN:DAYLIGHT
TZOFFSETFROM:+0100
TZOFFSETTO:+0200
TZNAME:CEST
DTSTART:20200329T010000
END:DAYLIGHT
BEGIN:STANDARD
TZOFFSETFROM:+0200
TZOFFSETTO:+0100
TZNAME:CET
DTSTART:20201025T010000
END:STANDARD
END:VTIMEZONE
BEGIN:VEVENT
DTSTART;TZID=Europe/Paris:20190409T150000
DTEND;TZID=Europe/Paris:20190409T163000
DTSTAMP:20260424T071842
CREATED:20190409T083308Z
LAST-MODIFIED:20190409T083809Z
UID:18092-1554822000-1554827400@www.alysea.lu
SUMMARY:Chorale au sein de la Maison de Soins les Jardins d'Alysea
DESCRIPTION:Les résidents donnent de la voix !\nLe mardi 09 avril 2019\, les résidents de la Maison de soins les Jardins d’Alysea donneront de leur voix lors de la chorale orchestrée par Jean Bermes chanteur baryton et pianiste. En effet\, ce dernier sera accompagné de Christiane Fein au chant et a la guitare. \nAinsi\, nos résidents pourront partager un moment de convivialité unique
URL:https://www.alysea.lu/event/chorale-au-sein-de-la-maison-de-retraite-les-jardins-dalysea09042019/
LOCATION:Les Jardins d’Alysea\, 48\, rue de Hellange\, Crauthem\, 3327\, Luxembourg
CATEGORIES:Home
ATTACH;FMTTYPE=image/jpeg:https://www.alysea.lu/wp-content/uploads/2019/04/audio-2941753_960_720.jpg
END:VEVENT
BEGIN:VEVENT
DTSTART;TZID=Europe/Paris:20190405T150000
DTEND;TZID=Europe/Paris:20190405T163000
DTSTAMP:20260424T071842
CREATED:20190409T083318Z
LAST-MODIFIED:20190409T083850Z
UID:18087-1554476400-1554481800@www.alysea.lu
SUMMARY:Thé dansant au coeur de la Maison de Soins les Jardins d'Alysea
DESCRIPTION:Il est l’heure de monter sur la piste de danse !\nLe vendredi 05 avril 2019\, coordonné par l’équipe éducative\, les résidents de la Maison de soins les Jardins d’Alyséa pourront partager un moment de divertissement et de détente autour de la musique et de la danse. \nEn effet\, ce moment de convivialité va leur permettre d’échanger et prendre du plaisir dans un moment particulier. \nAinsi un véritable événement festif les attends !
URL:https://www.alysea.lu/event/the-dansant-au-coeur-de-la-maison-de-retraite-les-jardins-dalysea05042019/
LOCATION:Les Jardins d’Alysea\, 48\, rue de Hellange\, Crauthem\, 3327\, Luxembourg
CATEGORIES:Home
ATTACH;FMTTYPE=image/jpeg:https://www.alysea.lu/wp-content/uploads/2019/04/piano-1655558_960_720.jpg
END:VEVENT
BEGIN:VEVENT
DTSTART;TZID=Europe/Paris:20190319T150000
DTEND;TZID=Europe/Paris:20190319T163000
DTSTAMP:20260424T071842
CREATED:20190318T140824Z
LAST-MODIFIED:20190318T141125Z
UID:18043-1553007600-1553013000@www.alysea.lu
SUMMARY:Les Résidents des Jardins d'Alysea chantent\, tous en coeur !
DESCRIPTION:Une Chorale au sein de la Maison de Retraite les Jardins d’Alysea\nLe groupe de chant de la maison de retraite Les Jardins d’Alysea est composé de 30 à 40 résidents. Tous les résidents de la structure peuvent faire partie de la chorale s’ils le souhaitent. Jean Bermes\, chanteur baryton et pianiste ainsi que Christiane Fein\, chanteuse et guitariste\, co-dirigent le groupe de chanteurs des Jardins d’Alysea au Luxembourg. \nLa Chorale se retrouve pour chanter les 05/03/2019\, 12/03/2019\, 19/03/2019 et 26/03/2019 de 15h à 16h30 dans le restaurant de la Résidence.
URL:https://www.alysea.lu/event/les-residents-du-jardin-dalysea-chantent-tous-en-coeur/
LOCATION:Les Jardins d’Alysea\, 48\, rue de Hellange\, Crauthem\, 3327\, Luxembourg
CATEGORIES:Home
ATTACH;FMTTYPE=image/png:https://www.alysea.lu/wp-content/uploads/2019/03/chorale-maison-de-retraite-jardin-alysea-luxembourg.png
END:VEVENT
END:VCALENDAR