BEGIN:VCALENDAR
VERSION:2.0
PRODID:-//Alysea - ECPv6.15.20//NONSGML v1.0//EN
CALSCALE:GREGORIAN
METHOD:PUBLISH
X-WR-CALNAME:Alysea
X-ORIGINAL-URL:https://www.alysea.lu
X-WR-CALDESC:Évènements pour Alysea
REFRESH-INTERVAL;VALUE=DURATION:PT1H
X-Robots-Tag:noindex
X-PUBLISHED-TTL:PT1H
BEGIN:VTIMEZONE
TZID:Europe/Paris
BEGIN:DAYLIGHT
TZOFFSETFROM:+0100
TZOFFSETTO:+0200
TZNAME:CEST
DTSTART:20180325T010000
END:DAYLIGHT
BEGIN:STANDARD
TZOFFSETFROM:+0200
TZOFFSETTO:+0100
TZNAME:CET
DTSTART:20181028T010000
END:STANDARD
BEGIN:DAYLIGHT
TZOFFSETFROM:+0100
TZOFFSETTO:+0200
TZNAME:CEST
DTSTART:20190331T010000
END:DAYLIGHT
BEGIN:STANDARD
TZOFFSETFROM:+0200
TZOFFSETTO:+0100
TZNAME:CET
DTSTART:20191027T010000
END:STANDARD
BEGIN:DAYLIGHT
TZOFFSETFROM:+0100
TZOFFSETTO:+0200
TZNAME:CEST
DTSTART:20200329T010000
END:DAYLIGHT
BEGIN:STANDARD
TZOFFSETFROM:+0200
TZOFFSETTO:+0100
TZNAME:CET
DTSTART:20201025T010000
END:STANDARD
END:VTIMEZONE
BEGIN:VEVENT
DTSTART;TZID=Europe/Paris:20190507T150000
DTEND;TZID=Europe/Paris:20190507T163000
DTSTAMP:20260424T071233
CREATED:20190507T162743Z
LAST-MODIFIED:20190507T162743Z
UID:18140-1557241200-1557246600@www.alysea.lu
SUMMARY:Chorale au sein de la Maison de Soins les Jardins d'Alysea
DESCRIPTION:Les résidents donnent de la voix !\nLe 07 mai 2019\, les résidents de la Maison de soins les Jardins d’Alysea donneront de leur voix lors de la chorale orchestrée par Jean Bermes chanteur baryton et pianiste. En effet\, ce dernier sera accompagné de Christiane Fein au chant et a la guitare. Les deux intervenants détaché par «Fundamental » sont issus également de la fondation Luxembourgeoise EME (Écouter pour Mieux Entendre\, fondation Luxembourgeoise regroupant et organisant des concerts et des formations autour de la musique classique). \nCet atelier sera centré sur le répertoire en priorité Luxembourgeois\, Français et Allemand. Cet atelier se veut culturel\, social et divertissant\, il est coordonné par l’équipe éducative. \nAinsi\, nos résidents pourront partager un moment de convivialité unique.
URL:https://www.alysea.lu/event/chorale-au-sein-de-la-maison-de-retraite-les-jardins-dalysea09042019-2/
LOCATION:Les Jardins d’Alysea\, 48\, rue de Hellange\, Crauthem\, 3327\, Luxembourg
CATEGORIES:Home
ATTACH;FMTTYPE=image/jpeg:https://www.alysea.lu/wp-content/uploads/2019/04/audio-2941753_960_720.jpg
END:VEVENT
BEGIN:VEVENT
DTSTART;TZID=Europe/Paris:20190423T153000
DTEND;TZID=Europe/Paris:20190423T170000
DTSTAMP:20260424T071233
CREATED:20190409T083226Z
LAST-MODIFIED:20190409T083541Z
UID:18105-1556033400-1556038800@www.alysea.lu
SUMMARY:Cérémonie de la remise du don
DESCRIPTION:Cérémonie en l’honneur de l’association “Le rêve du Petit Prince”\nLe mardi 23 avril 2019\, les résidents de la Maison de Soins les Jardins d’Alysea accueilleront le Président de l’association\, Monsieur SCHRIETZ. \nEn effet\, cette fondation ayant pour vocation de réaliser les rêves d’enfants malades et de soulager ceux souffrant de troubles du comportement grâce à la delphinothéraphie. \nA cet effet\, les résidents réalisent des objets mis en vente régulièrement. \nAinsi\, un cocktail sera organisé avec les résidents suite à la remise du chèque. \n 
URL:https://www.alysea.lu/event/ceremonie-de-la-remise-du-don23042019/
LOCATION:Les Jardins d’Alysea\, 48\, rue de Hellange\, Crauthem\, 3327\, Luxembourg
CATEGORIES:Home
ATTACH;FMTTYPE=image/jpeg:https://www.alysea.lu/wp-content/uploads/2019/04/kid-1241817_960_720.jpg
END:VEVENT
BEGIN:VEVENT
DTSTART;TZID=Europe/Paris:20190412T110000
DTEND;TZID=Europe/Paris:20190412T160000
DTSTAMP:20260424T071233
CREATED:20190409T083241Z
LAST-MODIFIED:20190409T083241Z
UID:18102-1555066800-1555084800@www.alysea.lu
SUMMARY:Sortie shopping à Bertrange
DESCRIPTION:C’est une journée shopping qui attend les résidents\nLe vendredi 12 avril 2019\, les résidents de la Maison de Soins les Jardins d’Alysea feront une petite virée au coeur de Bertrange où il est agréable de faire son shopping dans une atmosphère moderne et conviviale. En effet\, c’est un lieu très apprécié de nos résidents et chargé de souvenirs pour chacun. \nAinsi cette sortie sera l’occasion pour ces derniers de retrouver de l’autonomie\, d’augmenter son périmètre de marche\, et revivre des sensations connues. \nDans ces conditions\, les résidents seront stimulés par un environnement différent. \n 
URL:https://www.alysea.lu/event/sortie-shopping-a-bertrange12042019/
LOCATION:Les Jardins d’Alysea\, 48\, rue de Hellange\, Crauthem\, 3327\, Luxembourg
CATEGORIES:Home
ATTACH;FMTTYPE=image/jpeg:https://www.alysea.lu/wp-content/uploads/2019/04/shopping-606993_960_720.jpg
END:VEVENT
BEGIN:VEVENT
DTSTART;TZID=Europe/Paris:20190411T140000
DTEND;TZID=Europe/Paris:20190411T163000
DTSTAMP:20260424T071233
CREATED:20190409T083251Z
LAST-MODIFIED:20190409T083714Z
UID:18095-1554991200-1555000200@www.alysea.lu
SUMMARY:Visite des enfants du Foyer de Bettembourg
DESCRIPTION:Rencontre intergénérationnelle pour la Maison de Soins les Jardins d’Alysea\nLe jeudi 11 avril 2019\, les résidents de la Maison de Soins les Jardins d’Alysea rencontreront les enfants du foyer de Bettembourg. En effet\, les résidents partageront un unique moment de convivialité autour de jeux de société\, d’activités manuelles ou encore de préparations culinaires. \nAinsi\, cette activité coordonnée par l’équipe éducative\, fera vivre à petits et grands une expérience unique et un moment de partage rempli d’amour. \n 
URL:https://www.alysea.lu/event/visite-des-enfants-du-foyer-de-bettembourg11042019/
LOCATION:Les Jardins d’Alysea\, 48\, rue de Hellange\, Crauthem\, 3327\, Luxembourg
CATEGORIES:Home
ATTACH;FMTTYPE=image/jpeg:https://www.alysea.lu/wp-content/uploads/2019/04/kids-1093758_960_720.jpg
END:VEVENT
BEGIN:VEVENT
DTSTART;TZID=Europe/Paris:20190409T150000
DTEND;TZID=Europe/Paris:20190409T163000
DTSTAMP:20260424T071233
CREATED:20190409T083308Z
LAST-MODIFIED:20190409T083809Z
UID:18092-1554822000-1554827400@www.alysea.lu
SUMMARY:Chorale au sein de la Maison de Soins les Jardins d'Alysea
DESCRIPTION:Les résidents donnent de la voix !\nLe mardi 09 avril 2019\, les résidents de la Maison de soins les Jardins d’Alysea donneront de leur voix lors de la chorale orchestrée par Jean Bermes chanteur baryton et pianiste. En effet\, ce dernier sera accompagné de Christiane Fein au chant et a la guitare. \nAinsi\, nos résidents pourront partager un moment de convivialité unique
URL:https://www.alysea.lu/event/chorale-au-sein-de-la-maison-de-retraite-les-jardins-dalysea09042019/
LOCATION:Les Jardins d’Alysea\, 48\, rue de Hellange\, Crauthem\, 3327\, Luxembourg
CATEGORIES:Home
ATTACH;FMTTYPE=image/jpeg:https://www.alysea.lu/wp-content/uploads/2019/04/audio-2941753_960_720.jpg
END:VEVENT
BEGIN:VEVENT
DTSTART;TZID=Europe/Paris:20190405T150000
DTEND;TZID=Europe/Paris:20190405T163000
DTSTAMP:20260424T071233
CREATED:20190409T083318Z
LAST-MODIFIED:20190409T083850Z
UID:18087-1554476400-1554481800@www.alysea.lu
SUMMARY:Thé dansant au coeur de la Maison de Soins les Jardins d'Alysea
DESCRIPTION:Il est l’heure de monter sur la piste de danse !\nLe vendredi 05 avril 2019\, coordonné par l’équipe éducative\, les résidents de la Maison de soins les Jardins d’Alyséa pourront partager un moment de divertissement et de détente autour de la musique et de la danse. \nEn effet\, ce moment de convivialité va leur permettre d’échanger et prendre du plaisir dans un moment particulier. \nAinsi un véritable événement festif les attends !
URL:https://www.alysea.lu/event/the-dansant-au-coeur-de-la-maison-de-retraite-les-jardins-dalysea05042019/
LOCATION:Les Jardins d’Alysea\, 48\, rue de Hellange\, Crauthem\, 3327\, Luxembourg
CATEGORIES:Home
ATTACH;FMTTYPE=image/jpeg:https://www.alysea.lu/wp-content/uploads/2019/04/piano-1655558_960_720.jpg
END:VEVENT
BEGIN:VEVENT
DTSTART;TZID=Europe/Paris:20190330T110000
DTEND;TZID=Europe/Paris:20190330T120000
DTSTAMP:20260424T071233
CREATED:20190318T143000Z
LAST-MODIFIED:20190328T082230Z
UID:18050-1553943600-1553947200@www.alysea.lu
SUMMARY:C'est Pâques aux Jardins d'Alysea !
DESCRIPTION:Le printemps arrive au sein de la Maison de Soins Les Jardins d’Alysea et Pâques aussi !\nRendez-vous le samedi 30 mars à partir de 11h pour assister à la traditionnelle Messe de Pâques organisée par Les Jardins d’Alysea. La Messe\, célébrée par Leon Weber\, durera jusqu’à 11h45 et se déroulera au sein de la cafétéria de la résidence.
URL:https://www.alysea.lu/event/cest-paques-au-jardins-dalysea/
LOCATION:Les Jardins d’Alysea\, 48\, rue de Hellange\, Crauthem\, 3327\, Luxembourg
CATEGORIES:Home
ATTACH;FMTTYPE=image/png:https://www.alysea.lu/wp-content/uploads/2019/03/messe-de-paques-maison-de-retraite-luxembourg.png
END:VEVENT
BEGIN:VEVENT
DTSTART;TZID=Europe/Paris:20190319T150000
DTEND;TZID=Europe/Paris:20190319T163000
DTSTAMP:20260424T071233
CREATED:20190318T140824Z
LAST-MODIFIED:20190318T141125Z
UID:18043-1553007600-1553013000@www.alysea.lu
SUMMARY:Les Résidents des Jardins d'Alysea chantent\, tous en coeur !
DESCRIPTION:Une Chorale au sein de la Maison de Retraite les Jardins d’Alysea\nLe groupe de chant de la maison de retraite Les Jardins d’Alysea est composé de 30 à 40 résidents. Tous les résidents de la structure peuvent faire partie de la chorale s’ils le souhaitent. Jean Bermes\, chanteur baryton et pianiste ainsi que Christiane Fein\, chanteuse et guitariste\, co-dirigent le groupe de chanteurs des Jardins d’Alysea au Luxembourg. \nLa Chorale se retrouve pour chanter les 05/03/2019\, 12/03/2019\, 19/03/2019 et 26/03/2019 de 15h à 16h30 dans le restaurant de la Résidence.
URL:https://www.alysea.lu/event/les-residents-du-jardin-dalysea-chantent-tous-en-coeur/
LOCATION:Les Jardins d’Alysea\, 48\, rue de Hellange\, Crauthem\, 3327\, Luxembourg
CATEGORIES:Home
ATTACH;FMTTYPE=image/png:https://www.alysea.lu/wp-content/uploads/2019/03/chorale-maison-de-retraite-jardin-alysea-luxembourg.png
END:VEVENT
BEGIN:VEVENT
DTSTART;TZID=Europe/Paris:20190314T140000
DTEND;TZID=Europe/Paris:20190314T163000
DTSTAMP:20260424T071233
CREATED:20190313T143132Z
LAST-MODIFIED:20190318T144943Z
UID:18056-1552572000-1552581000@www.alysea.lu
SUMMARY:Rencontre Intergénérationnelle aux Jardins d'Alysea
DESCRIPTION:Les enfants du foyer Bettembourg rendent visite aux résidents\nLes résidents des Jardins d’Alysea auront le plaisir de recevoir les enfants du foyer Bettembourg pour partager un moment de convivialité autour de jeux de société\, d’activités manuelles ou de préparations culinaires. L’équipe éducative coordonnera cette rencontra intergénérationnelle qui se déroulera au sein du bâtiment principal de la Résidence des Jardins d’Alysea\, le 14 mars de 14h à 16h30.
URL:https://www.alysea.lu/event/rencontre-intergenerationnelle-aux-jardins-dalysea/
LOCATION:Les Jardins d’Alysea\, 48\, rue de Hellange\, Crauthem\, 3327\, Luxembourg
CATEGORIES:Home
ATTACH;FMTTYPE=image/png:https://www.alysea.lu/wp-content/uploads/2019/03/rencontre-intergenerationnelle-maison-de-retraite-luxembourg.png
END:VEVENT
END:VCALENDAR